BEGIN:VCALENDAR
VERSION:2.0
PRODID:-//ChamberMaster//Event Calendar 2.0//EN
METHOD:PUBLISH
X-PUBLISHED-TTL:P1H
REFRESH-INTERVAL:P1H
CALSCALE:GREGORIAN
BEGIN:VTIMEZONE
TZID:America/Chicago
BEGIN:DAYLIGHT
RRULE:FREQ=YEARLY;BYMONTH=3;BYDAY=2SU
DTSTART:20070101T000000
TZOFFSETFROM:-0600
TZOFFSETTO:-0500
TZNAME:Central Daylight Time
END:DAYLIGHT
BEGIN:STANDARD
RRULE:FREQ=YEARLY;BYMONTH=11;BYDAY=1SU
DTSTART:20070101T000000
TZOFFSETFROM:-0500
TZOFFSETTO:-0600
TZNAME:Central Standard Time
END:STANDARD
END:VTIMEZONE
BEGIN:VEVENT
DTSTART;TZID=America/Chicago:20260611T183000
DTEND;TZID=America/Chicago:20260611T203000
X-MICROSOFT-CDO-ALLDAYEVENT:FALSE
SUMMARY:Sun Festival YP Trivia Night
DESCRIPTION:Join in for trivia night hosted by Lake Martin Young Professionals at Vinyl’s Neighborhood Lounge. You’ve been storing that random knowledge upstairs for a reason\, and maybe this is it. Brush up on your history\, science\, music\, movies and sports facts for a shot at cash prizes for the big winners.
X-ALT-DESC;FMTTYPE=text/html:Join in for trivia night hosted by Lake Martin Young Professionals at Vinyl’s Neighborhood Lounge. You’ve been storing that random knowledge upstairs for a reason\, and maybe this is it. Brush up on your history\, science\, music\, movies and sports facts for a shot at cash prizes for the big winners.
LOCATION:41 Main Street Alexander City AL 35010
UID:e.3035.1445277
SEQUENCE:3
DTSTAMP:20260421T134736Z
URL:https://chamber.alexcitychamber.com/calendar/Details/sun-festival-yp-trivia-night-1711774?sourceTypeId=Hub
END:VEVENT
END:VCALENDAR
