BEGIN:VCALENDAR
VERSION:2.0
PRODID:-//ChamberMaster//Event Calendar 2.0//EN
METHOD:PUBLISH
X-PUBLISHED-TTL:P1H
REFRESH-INTERVAL:P1H
CALSCALE:GREGORIAN
BEGIN:VTIMEZONE
TZID:America/Chicago
BEGIN:DAYLIGHT
RRULE:FREQ=YEARLY;BYMONTH=3;BYDAY=2SU
DTSTART:20070101T000000
TZOFFSETFROM:-0600
TZOFFSETTO:-0500
TZNAME:Central Daylight Time
END:DAYLIGHT
BEGIN:STANDARD
RRULE:FREQ=YEARLY;BYMONTH=11;BYDAY=1SU
DTSTART:20070101T000000
TZOFFSETFROM:-0500
TZOFFSETTO:-0600
TZNAME:Central Standard Time
END:STANDARD
END:VTIMEZONE
BEGIN:VEVENT
DTSTART;VALUE=DATE:20260607
DTEND;VALUE=DATE:20260608
TRANSP:TRANSPARENT
X-MICROSOFT-CDO-ALLDAYEVENT:TRUE
SUMMARY:Sun Festival Worship Services
DESCRIPTION:Join a soul-nourishing worship experience where Sunday services are a time of fellowship\, praise\, and spiritual growth. Abundant Life Church\n465 O Street\n9:45 Sunday School\n11:00 Morning Worship First United Methodist Church\n3266 US Highway 280\n9 am   Worship Service\n10:30   Bible Class\n10 am   Fellowship Alexander City Methodist Church\n1020 11th Avenue North\n9 am   Contemporary Worship Service\n10 am   Sunday School\n11 am   Traditional Worship Service Cornerstone First Global Methodist Church\n310 Green Street\n9 am   Contemporary Worship at The Arbor\n10 am   Sunday School at The Arbor\n11 am   Traditional Service at Green Street Sanctuary Early Rose Baptist Church\n57 E Street\n10 am   Sunday School\n11 am   Worship First Baptist Church\n64 Court Square\n9 am   Worship Service\n10:30 am   Sunday School Flint Hill Church\n2858 Flint Hill Road\n9:45 am   Sunday School\n10:45 am   Worship Service Great Bethel Baptist Church\n692 Jefferson Street\n10 am   Sunday School\n11 am   Worship Jehovah-Jireh Ministries\n1410 Hillabee Street\n9:45 am   Worship Service St. John The Apostle Catholic Church\n454 N Central Avenue\n7 am   Spanish Mass\n9 am   English Mass Stone Ridge Baptist Church\n611 Airport Drive\n9 am   Life Groups\n10:30 am   Worship Service\n5:30 pm  Life Groups Wayside Baptist Church \n21 Wayside Circle\n9 am   Bible Study\n10 am   Worship Service
X-ALT-DESC;FMTTYPE=text/html:<!DOCTYPE html><html><head><title></title></head><body aria-disabled="false"><p>Join a soul-nourishing worship experience where Sunday services are a time of fellowship\, praise\, and spiritual growth.&nbsp\;</p><p>Abundant Life Church<br>465 O Street<br>9:45 Sunday School<br>11:00 Morning Worship&nbsp\;</p><p>First United Methodist Church<br>3266 US Highway 280<br>9 am &ndash\; Worship Service<br>10:30 &ndash\; Bible Class<br>10 am &ndash\; Fellowship&nbsp\;</p><p>Alexander City Methodist Church<br>1020 11th Avenue North<br>9 am &ndash\; Contemporary Worship Service<br>10 am &ndash\; Sunday School<br>11 am &ndash\; Traditional Worship Service&nbsp\;</p><p>Cornerstone First Global Methodist Church<br>310 Green Street<br>9 am &ndash\; Contemporary Worship at The Arbor<br>10 am &ndash\; Sunday School at The Arbor<br>11 am &ndash\; Traditional Service at Green Street Sanctuary&nbsp\;</p><p>Early Rose Baptist Church<br>57 E Street<br>10 am &ndash\; Sunday School<br>11 am &ndash\; Worship&nbsp\;</p><p>First Baptist Church<br>64 Court Square<br>9 am &ndash\; Worship Service<br>10:30 am &ndash\; Sunday School&nbsp\;</p><p>Flint Hill Church<br>2858 Flint Hill Road<br>9:45 am &ndash\; Sunday School<br>10:45 am &ndash\; Worship Service&nbsp\;</p><p>Great Bethel Baptist Church<br>692 Jefferson Street<br>10 am &ndash\; Sunday School<br>11 am &ndash\; Worship&nbsp\;</p><p>Jehovah-Jireh Ministries<br>1410 Hillabee Street<br>9:45 am &ndash\; Worship Service&nbsp\;</p><p>St. John The Apostle Catholic Church<br>454 N Central Avenue<br>7 am &ndash\; Spanish Mass<br>9 am &ndash\; English Mass&nbsp\;</p><p>Stone Ridge Baptist Church<br>611 Airport Drive<br>9 am &ndash\; Life Groups<br>10:30 am &ndash\; Worship Service<br>5:30 pm &ndash\;Life Groups&nbsp\;</p><p>Wayside Baptist Church <br>21 Wayside Circle<br>9 am &ndash\; Bible Study<br>10 am &ndash\; Worship Service</p></body></html>
LOCATION:
UID:e.3035.1445026
SEQUENCE:3
DTSTAMP:20260421T134737Z
URL:https://chamber.alexcitychamber.com/calendar/Details/sun-festival-worship-services-1711510?sourceTypeId=Hub
END:VEVENT
END:VCALENDAR
