BEGIN:VCALENDAR
VERSION:2.0
PRODID:-//ChamberMaster//Event Calendar 2.0//EN
METHOD:PUBLISH
X-PUBLISHED-TTL:P1H
REFRESH-INTERVAL:P1H
CALSCALE:GREGORIAN
BEGIN:VTIMEZONE
TZID:America/Chicago
BEGIN:DAYLIGHT
RRULE:FREQ=YEARLY;BYMONTH=3;BYDAY=2SU
DTSTART:20070101T000000
TZOFFSETFROM:-0600
TZOFFSETTO:-0500
TZNAME:Central Daylight Time
END:DAYLIGHT
BEGIN:STANDARD
RRULE:FREQ=YEARLY;BYMONTH=11;BYDAY=1SU
DTSTART:20070101T000000
TZOFFSETFROM:-0500
TZOFFSETTO:-0600
TZNAME:Central Standard Time
END:STANDARD
END:VTIMEZONE
BEGIN:VEVENT
DTSTART;TZID=America/Chicago:20260606T070000
DTEND;TZID=America/Chicago:20260606T080000
X-MICROSOFT-CDO-ALLDAYEVENT:FALSE
SUMMARY:Sun Festival Rise & Shine Yoga
DESCRIPTION:Start your day with a little movement and mindfulness at our Sun Festival Yoga Session! This all-levels class is perfect for beginners and experienced yogis alike. Come stretch\, breathe\, and recharge in a relaxed\, welcoming atmosphere. Bring a mat (or borrow one of ours) and join us for a refreshing start to your day!
X-ALT-DESC;FMTTYPE=text/html:Start your day with a little movement and mindfulness at our Sun Festival Yoga Session! This all-levels class is perfect for beginners and experienced yogis alike. Come stretch\, breathe\, and recharge in a relaxed\, welcoming atmosphere. Bring a mat (or borrow one of ours) and join us for a refreshing start to your day!
LOCATION:120 Tallapoosa Street Alexander City AL 35010
UID:e.3035.1444992
SEQUENCE:3
DTSTAMP:20260421T134948Z
URL:https://chamber.alexcitychamber.com/calendar/Details/sun-festival-rise-shine-yoga-1711481?sourceTypeId=Hub
END:VEVENT
END:VCALENDAR
