BEGIN:VCALENDAR
VERSION:2.0
PRODID:-//ChamberMaster//Event Calendar 2.0//EN
METHOD:PUBLISH
X-PUBLISHED-TTL:P1H
REFRESH-INTERVAL:P1H
CALSCALE:GREGORIAN
BEGIN:VTIMEZONE
TZID:America/Chicago
BEGIN:DAYLIGHT
RRULE:FREQ=YEARLY;BYMONTH=3;BYDAY=2SU
DTSTART:20070101T000000
TZOFFSETFROM:-0600
TZOFFSETTO:-0500
TZNAME:Central Daylight Time
END:DAYLIGHT
BEGIN:STANDARD
RRULE:FREQ=YEARLY;BYMONTH=11;BYDAY=1SU
DTSTART:20070101T000000
TZOFFSETFROM:-0500
TZOFFSETTO:-0600
TZNAME:Central Standard Time
END:STANDARD
END:VTIMEZONE
BEGIN:VEVENT
DTSTART;TZID=America/Chicago:20260611T173000
DTEND;TZID=America/Chicago:20260611T193000
X-MICROSOFT-CDO-ALLDAYEVENT:FALSE
SUMMARY:Sun Festival Pickleball Tournament
DESCRIPTION:Whether you're a seasoned pro or new to the game\, don't miss out on the excitement of the Sun Festival Pickleball Tournament. Pick your partner and register now to secure your spot and be part of the pickleball action! Format will be mixed doubles. Cost to participate is $50 per team. Prizes for 1st\, 2nd and 3rd place teams. Space is limited so be sure to get registered soon.
X-ALT-DESC;FMTTYPE=text/html:Whether you're a seasoned pro or new to the game\, don't miss out on the excitement of the Sun Festival Pickleball Tournament. Pick your partner and register now to secure your spot and be part of the pickleball action! Format will be mixed doubles. Cost to participate is $50 per team. Prizes for 1st\, 2nd and 3rd place teams. Space is limited so be sure to get registered soon.
LOCATION:1675 Cherokee Road Alexander City AL 35011
UID:e.3035.1445234
SEQUENCE:3
DTSTAMP:20260421T134948Z
URL:https://chamber.alexcitychamber.com/calendar/Details/sun-festival-pickleball-tournament-1711739?sourceTypeId=Hub
END:VEVENT
END:VCALENDAR
