BEGIN:VCALENDAR
VERSION:2.0
PRODID:-//ChamberMaster//Event Calendar 2.0//EN
METHOD:PUBLISH
X-PUBLISHED-TTL:P1H
REFRESH-INTERVAL:P1H
CALSCALE:GREGORIAN
BEGIN:VTIMEZONE
TZID:America/Chicago
BEGIN:DAYLIGHT
RRULE:FREQ=YEARLY;BYMONTH=3;BYDAY=2SU
DTSTART:20070101T000000
TZOFFSETFROM:-0600
TZOFFSETTO:-0500
TZNAME:Central Daylight Time
END:DAYLIGHT
BEGIN:STANDARD
RRULE:FREQ=YEARLY;BYMONTH=11;BYDAY=1SU
DTSTART:20070101T000000
TZOFFSETFROM:-0500
TZOFFSETTO:-0600
TZNAME:Central Standard Time
END:STANDARD
END:VTIMEZONE
BEGIN:VEVENT
DTSTART;TZID=America/Chicago:20260606T110000
DTEND;TZID=America/Chicago:20260606T130000
X-MICROSOFT-CDO-ALLDAYEVENT:FALSE
SUMMARY:Sun Festival Melon Madness
DESCRIPTION:Join us for a sweet slice of summer at our Watermelon Festival! Enjoy free\, ice-cold watermelon while you cheer on (or compete in) our watermelon eating and seed spitting contests. It's messy\, it's fun\, and it's perfect for the whole family don't miss this juicy good time!
X-ALT-DESC;FMTTYPE=text/html:<!DOCTYPE html><html><head><title></title></head><body aria-disabled="false"><p style="margin-bottom:0in\;line-height:normal\;">Join us for a sweet slice of summer at our Watermelon Festival! Enjoy free\, ice-cold watermelon while you cheer on (or compete in) our watermelon eating and seed spitting contests. It&rsquo\;s messy\, it&rsquo\;s fun\, and it&rsquo\;s perfect for the whole family&mdash\;don&rsquo\;t miss this juicy good time!</p></body></html>
LOCATION:4325 AL Highway 128 Alexander City AL 35010
UID:e.3035.1445003
SEQUENCE:3
DTSTAMP:20260421T134654Z
URL:https://chamber.alexcitychamber.com/calendar/Details/sun-festival-melon-madness-1711487?sourceTypeId=Hub
END:VEVENT
END:VCALENDAR
