BEGIN:VCALENDAR
VERSION:2.0
PRODID:-//ChamberMaster//Event Calendar 2.0//EN
METHOD:PUBLISH
X-PUBLISHED-TTL:P1H
REFRESH-INTERVAL:P1H
CALSCALE:GREGORIAN
BEGIN:VTIMEZONE
TZID:America/Chicago
BEGIN:DAYLIGHT
RRULE:FREQ=YEARLY;BYMONTH=3;BYDAY=2SU
DTSTART:20070101T000000
TZOFFSETFROM:-0600
TZOFFSETTO:-0500
TZNAME:Central Daylight Time
END:DAYLIGHT
BEGIN:STANDARD
RRULE:FREQ=YEARLY;BYMONTH=11;BYDAY=1SU
DTSTART:20070101T000000
TZOFFSETFROM:-0500
TZOFFSETTO:-0600
TZNAME:Central Standard Time
END:STANDARD
END:VTIMEZONE
BEGIN:VEVENT
DTSTART;TZID=America/Chicago:20260611T060000
DTEND;TZID=America/Chicago:20260611T230000
X-MICROSOFT-CDO-ALLDAYEVENT:FALSE
SUMMARY:Sun Festival Medallion Hunt
DESCRIPTION:Listen for the early morning riddle first at 6 am and then again at 7 am on The Front Porch and Kowaliga Country 97.5. (Only Monday-Friday clues will be on The Front Porch.) The clues will be shared on the Sun Festival\, Alexander City Chamber of Commerce\, and Alexander City Outlook Facebook pages at 6 am. When solved\, the riddle will lead you to an official Sun Festival Alexander City medallion worth $200. The medallion will be hidden within the Alexander City city limits. \n\nIf the medallion has not been found by 3 pm\, an additional clue will be given through all media outlets listed above. Should the medallion not be found on any given day\, it will roll to the next day along with a new medallion riddle for that day’s treasure as well. In this scenario\, more than one medallion is in play.\n		\nWhen you find the medallion\, call Kowaliga Country 97.5 at 256-234-6221 and then take the medallion to the Alexander City Outlook\, during their normal business hours\, to collect your prize and have your picture made\n\nIf the medallion has not been found by 3 pm\, an additional clue will be given through all media outlets listed above. Should the medallion not be found on any given day\, it will roll to the next day with a new medallion riddle for that day’s treasure as well. In this scenario\, more than one medallion is in play.\n		\nWhen you find the medallion\, call Kowaliga Country 97.5 at 256-234-6221 and then take the medallion to the Alexander City Outlook to collect your prize and have your picture made.
X-ALT-DESC;FMTTYPE=text/html:Listen for the early morning riddle first at 6 am and then again at 7 am on The Front Porch and Kowaliga Country 97.5. (Only Monday-Friday clues will be on The Front Porch.) The clues will be shared on the Sun Festival\, Alexander City Chamber of Commerce\, and Alexander City Outlook Facebook pages at 6 am. When solved\, the riddle will lead you to an official Sun Festival Alexander City medallion worth $200. The medallion will be hidden within the Alexander City city limits. \n\nIf the medallion has not been found by 3 pm\, an additional clue will be given through all media outlets listed above. Should the medallion not be found on any given day\, it will roll to the next day along with a new medallion riddle for that day’s treasure as well. In this scenario\, more than one medallion is in play.\n		\nWhen you find the medallion\, call Kowaliga Country 97.5 at 256-234-6221 and then take the medallion to the Alexander City Outlook\, during their normal business hours\, to collect your prize and have your picture made\n\nIf the medallion has not been found by 3 pm\, an additional clue will be given through all media outlets listed above. Should the medallion not be found on any given day\, it will roll to the next day with a new medallion riddle for that day’s treasure as well. In this scenario\, more than one medallion is in play.\n		\nWhen you find the medallion\, call Kowaliga Country 97.5 at 256-234-6221 and then take the medallion to the Alexander City Outlook to collect your prize and have your picture made.
LOCATION:Alexander City AL 35010
UID:e.3035.1444923
SEQUENCE:3
DTSTAMP:20260421T134654Z
URL:https://chamber.alexcitychamber.com/calendar/Details/sun-festival-medallion-hunt-1711339?sourceTypeId=Hub
END:VEVENT
END:VCALENDAR
