BEGIN:VCALENDAR
VERSION:2.0
PRODID:-//ChamberMaster//Event Calendar 2.0//EN
METHOD:PUBLISH
X-PUBLISHED-TTL:P1H
REFRESH-INTERVAL:P1H
CALSCALE:GREGORIAN
BEGIN:VTIMEZONE
TZID:America/Chicago
BEGIN:DAYLIGHT
RRULE:FREQ=YEARLY;BYMONTH=3;BYDAY=2SU
DTSTART:20070101T000000
TZOFFSETFROM:-0600
TZOFFSETTO:-0500
TZNAME:Central Daylight Time
END:DAYLIGHT
BEGIN:STANDARD
RRULE:FREQ=YEARLY;BYMONTH=11;BYDAY=1SU
DTSTART:20070101T000000
TZOFFSETFROM:-0500
TZOFFSETTO:-0600
TZNAME:Central Standard Time
END:STANDARD
END:VTIMEZONE
BEGIN:VEVENT
DTSTART;TZID=America/Chicago:20260609T150000
DTEND;TZID=America/Chicago:20260609T180000
X-MICROSOFT-CDO-ALLDAYEVENT:FALSE
SUMMARY:Sun Festival Mahjong Shuffle & Shine
DESCRIPTION:Join Mahj Play Days Lake Martin for a fun & free open play social at Lake Martin Pizza Co. on Highway 63. Whether you're an experienced player or brand new to the game\, we'll have tables set up for both so everyone can join in. It's free to play\, but space is limited\, so registration is required.
X-ALT-DESC;FMTTYPE=text/html:<!DOCTYPE html><html><head><title></title></head><body aria-disabled="false"><p>Join Mahj Play Days Lake Martin for a fun &amp\; free open play social at Lake Martin Pizza Co. on Highway 63. Whether you&rsquo\;re an experienced player or brand new to the game\, we&rsquo\;ll have tables set up for both&mdash\;so everyone can join in. It&rsquo\;s free to play\, but space is limited\, so registration is required.&nbsp\;</p></body></html>
LOCATION:8469 HWY 63 S. #105 Alexander City 35010
UID:e.3035.1445864
SEQUENCE:3
DTSTAMP:20260421T134932Z
URL:https://chamber.alexcitychamber.com/calendar/Details/sun-festival-mahjong-shuffle-shine-1712515?sourceTypeId=Hub
END:VEVENT
END:VCALENDAR
