BEGIN:VCALENDAR
VERSION:2.0
PRODID:-//ChamberMaster//Event Calendar 2.0//EN
METHOD:PUBLISH
X-PUBLISHED-TTL:P1H
REFRESH-INTERVAL:P1H
CALSCALE:GREGORIAN
BEGIN:VTIMEZONE
TZID:America/Chicago
BEGIN:DAYLIGHT
RRULE:FREQ=YEARLY;BYMONTH=3;BYDAY=2SU
DTSTART:20070101T000000
TZOFFSETFROM:-0600
TZOFFSETTO:-0500
TZNAME:Central Daylight Time
END:DAYLIGHT
BEGIN:STANDARD
RRULE:FREQ=YEARLY;BYMONTH=11;BYDAY=1SU
DTSTART:20070101T000000
TZOFFSETFROM:-0500
TZOFFSETTO:-0600
TZNAME:Central Standard Time
END:STANDARD
END:VTIMEZONE
BEGIN:VEVENT
DTSTART;TZID=America/Chicago:20260609T140000
DTEND;TZID=America/Chicago:20260609T160000
X-MICROSOFT-CDO-ALLDAYEVENT:FALSE
SUMMARY:Sun Festival KidsFest Splashplex
DESCRIPTION:Water\, water everywhere! Bring the kiddos and join us at the Splashplex located at the Charles E. Bailey Sportplex for an afternoon of splish-splashing fun. We will also have an inflatable water slide and foam party to add to the excitement. Be prepared to get wet and enjoy a delicious treat from Kona Ice.
X-ALT-DESC;FMTTYPE=text/html:Water\, water everywhere! Bring the kiddos and join us at the Splashplex located at the Charles E. Bailey Sportplex for an afternoon of splish-splashing fun. We will also have an inflatable water slide and foam party to add to the excitement. Be prepared to get wet and enjoy a delicious treat from Kona Ice.
LOCATION:1685 Arena Road Alexander CIty AL 35010
UID:e.3035.1445030
SEQUENCE:3
DTSTAMP:20260421T134740Z
URL:https://chamber.alexcitychamber.com/calendar/Details/sun-festival-kidsfest-splashplex-1711514?sourceTypeId=Hub
END:VEVENT
END:VCALENDAR
