BEGIN:VCALENDAR
VERSION:2.0
PRODID:-//ChamberMaster//Event Calendar 2.0//EN
METHOD:PUBLISH
X-PUBLISHED-TTL:P1H
REFRESH-INTERVAL:P1H
CALSCALE:GREGORIAN
BEGIN:VTIMEZONE
TZID:America/Chicago
BEGIN:DAYLIGHT
RRULE:FREQ=YEARLY;BYMONTH=3;BYDAY=2SU
DTSTART:20070101T000000
TZOFFSETFROM:-0600
TZOFFSETTO:-0500
TZNAME:Central Daylight Time
END:DAYLIGHT
BEGIN:STANDARD
RRULE:FREQ=YEARLY;BYMONTH=11;BYDAY=1SU
DTSTART:20070101T000000
TZOFFSETFROM:-0500
TZOFFSETTO:-0600
TZNAME:Central Standard Time
END:STANDARD
END:VTIMEZONE
BEGIN:VEVENT
DTSTART;TZID=America/Chicago:20260610T143000
DTEND;TZID=America/Chicago:20260610T160000
X-MICROSOFT-CDO-ALLDAYEVENT:FALSE
SUMMARY:Sun Festival KidsFest Build Your Own Sundae
DESCRIPTION:Join us at Carlisle’s for a sweet adventure where every scoop is a delight and every topping is a burst of flavor. It's a treat for the taste buds and a feast for the imagination!
X-ALT-DESC;FMTTYPE=text/html:Join us at Carlisle’s for a sweet adventure where every scoop is a delight and every topping is a burst of flavor. It's a treat for the taste buds and a feast for the imagination!
LOCATION:12 Main Street Alexander City AL 35010
UID:e.3035.1445039
SEQUENCE:3
DTSTAMP:20260421T135116Z
URL:https://chamber.alexcitychamber.com/calendar/Details/sun-festival-kidsfest-build-your-own-sundae-1711524?sourceTypeId=Hub
END:VEVENT
END:VCALENDAR
