BEGIN:VCALENDAR
VERSION:2.0
PRODID:-//ChamberMaster//Event Calendar 2.0//EN
METHOD:PUBLISH
X-PUBLISHED-TTL:P1H
REFRESH-INTERVAL:P1H
CALSCALE:GREGORIAN
BEGIN:VTIMEZONE
TZID:America/Chicago
BEGIN:DAYLIGHT
RRULE:FREQ=YEARLY;BYMONTH=3;BYDAY=2SU
DTSTART:20070101T000000
TZOFFSETFROM:-0600
TZOFFSETTO:-0500
TZNAME:Central Daylight Time
END:DAYLIGHT
BEGIN:STANDARD
RRULE:FREQ=YEARLY;BYMONTH=11;BYDAY=1SU
DTSTART:20070101T000000
TZOFFSETFROM:-0500
TZOFFSETTO:-0600
TZNAME:Central Standard Time
END:STANDARD
END:VTIMEZONE
BEGIN:VEVENT
DTSTART;TZID=America/Chicago:20260610T130000
DTEND;TZID=America/Chicago:20260610T160000
X-MICROSOFT-CDO-ALLDAYEVENT:FALSE
SUMMARY:Sun Festival KidsFest Art the Wright Way
DESCRIPTION:Get your art on and create your own masterpiece. Everyone must pre-register as space is limited.  Sessions will be 30 minutes each. There is a charge of $2 per child to cover the cost of art supplies. Call the Alexander City Chamber at 256-234-3461 or stop by 175 Aliant Parkway to register early. .
X-ALT-DESC;FMTTYPE=text/html:Get your art on and create your own masterpiece. Everyone must pre-register as space is limited.  Sessions will be 30 minutes each. There is a charge of $2 per child to cover the cost of art supplies. Call the Alexander City Chamber at 256-234-3461 or stop by 175 Aliant Parkway to register early. .
LOCATION:17 Main Street Alexander City AL 35010
UID:e.3035.1445038
SEQUENCE:3
DTSTAMP:20260421T134933Z
URL:https://chamber.alexcitychamber.com/calendar/Details/sun-festival-kidsfest-art-the-wright-way-1711523?sourceTypeId=Hub
END:VEVENT
END:VCALENDAR
