BEGIN:VCALENDAR
VERSION:2.0
PRODID:-//ChamberMaster//Event Calendar 2.0//EN
METHOD:PUBLISH
X-PUBLISHED-TTL:P1H
REFRESH-INTERVAL:P1H
CALSCALE:GREGORIAN
BEGIN:VTIMEZONE
TZID:America/Chicago
BEGIN:DAYLIGHT
RRULE:FREQ=YEARLY;BYMONTH=3;BYDAY=2SU
DTSTART:20070101T000000
TZOFFSETFROM:-0600
TZOFFSETTO:-0500
TZNAME:Central Daylight Time
END:DAYLIGHT
BEGIN:STANDARD
RRULE:FREQ=YEARLY;BYMONTH=11;BYDAY=1SU
DTSTART:20070101T000000
TZOFFSETFROM:-0500
TZOFFSETTO:-0600
TZNAME:Central Standard Time
END:STANDARD
END:VTIMEZONE
BEGIN:VEVENT
DTSTART;TZID=America/Chicago:20260610T180000
DTEND;TZID=America/Chicago:20260610T200000
X-MICROSOFT-CDO-ALLDAYEVENT:FALSE
SUMMARY:Sun Festival Faith Night presented by Radney Funeral Home
DESCRIPTION:Experience a worship night like no other at The Mill 280 featuring performances from local church praise teams. Faith Night is free to the public\, but we do ask that each person bring one non-perishable food item to be donated to area food banks. Hamburgers\, hot dogs\, drinks and snacks will be served.
X-ALT-DESC;FMTTYPE=text/html:Experience a worship night like no other at The Mill 280 featuring performances from local church praise teams. Faith Night is free to the public\, but we do ask that each person bring one non-perishable food item to be donated to area food banks. Hamburgers\, hot dogs\, drinks and snacks will be served.
LOCATION:3562 Highway 280 Alexander City AL 35010
UID:e.3035.1445040
SEQUENCE:3
DTSTAMP:20260421T135111Z
URL:https://chamber.alexcitychamber.com/calendar/Details/sun-festival-faith-night-presented-by-radney-funeral-home-1711525?sourceTypeId=Hub
END:VEVENT
END:VCALENDAR
