BEGIN:VCALENDAR
VERSION:2.0
PRODID:-//ChamberMaster//Event Calendar 2.0//EN
METHOD:PUBLISH
X-PUBLISHED-TTL:P1H
REFRESH-INTERVAL:P1H
CALSCALE:GREGORIAN
BEGIN:VTIMEZONE
TZID:America/Chicago
BEGIN:DAYLIGHT
RRULE:FREQ=YEARLY;BYMONTH=3;BYDAY=2SU
DTSTART:20070101T000000
TZOFFSETFROM:-0600
TZOFFSETTO:-0500
TZNAME:Central Daylight Time
END:DAYLIGHT
BEGIN:STANDARD
RRULE:FREQ=YEARLY;BYMONTH=11;BYDAY=1SU
DTSTART:20070101T000000
TZOFFSETFROM:-0500
TZOFFSETTO:-0600
TZNAME:Central Standard Time
END:STANDARD
END:VTIMEZONE
BEGIN:VEVENT
DTSTART;TZID=America/Chicago:20260611T103000
DTEND;TZID=America/Chicago:20260611T130000
X-MICROSOFT-CDO-ALLDAYEVENT:FALSE
SUMMARY:Sun Festival Celebrate America's Heroes
DESCRIPTION:As we take time to remember the men and women who have served and are serving our country to protect the freedoms we enjoy\, veterans at Bill Nichols will be treated to live music and lunch.
X-ALT-DESC;FMTTYPE=text/html:As we take time to remember the men and women who have served and are serving our country to protect the freedoms we enjoy\, veterans at Bill Nichols will be treated to live music and lunch.
LOCATION:1784 Elkahatchee Road Alexander City AL 35010
UID:e.3035.1445219
SEQUENCE:3
DTSTAMP:20260421T135040Z
URL:https://chamber.alexcitychamber.com/calendar/Details/sun-festival-celebrate-america-s-heroes-1711725?sourceTypeId=Hub
END:VEVENT
END:VCALENDAR
