BEGIN:VCALENDAR
VERSION:2.0
PRODID:-//ChamberMaster//Event Calendar 2.0//EN
METHOD:PUBLISH
X-PUBLISHED-TTL:P1H
REFRESH-INTERVAL:P1H
CALSCALE:GREGORIAN
BEGIN:VTIMEZONE
TZID:America/Chicago
BEGIN:DAYLIGHT
RRULE:FREQ=YEARLY;BYMONTH=3;BYDAY=2SU
DTSTART:20070101T000000
TZOFFSETFROM:-0600
TZOFFSETTO:-0500
TZNAME:Central Daylight Time
END:DAYLIGHT
BEGIN:STANDARD
RRULE:FREQ=YEARLY;BYMONTH=11;BYDAY=1SU
DTSTART:20070101T000000
TZOFFSETFROM:-0500
TZOFFSETTO:-0600
TZNAME:Central Standard Time
END:STANDARD
END:VTIMEZONE
BEGIN:VEVENT
DTSTART;TZID=America/Chicago:20260609T180000
DTEND;TZID=America/Chicago:20260609T210000
X-MICROSOFT-CDO-ALLDAYEVENT:FALSE
SUMMARY:Sun Festival Canvas & Cocktails
DESCRIPTION:Express your creativity with a paint brush in one hand and a cocktail in the other! We’ll provide the pre-drawn canvas\, paints\, and treats. You provide your beverage of choice. The cost to participate is $35 per person. Space is limited and reservations must be made by Friday\, May 29. Follow Sun Festival Alexander City on Facebook for registration details coming soon.
X-ALT-DESC;FMTTYPE=text/html:Express your creativity with a paint brush in one hand and a cocktail in the other! We’ll provide the pre-drawn canvas\, paints\, and treats. You provide your beverage of choice. The cost to participate is $35 per person. Space is limited and reservations must be made by Friday\, May 29. Follow Sun Festival Alexander City on Facebook for registration details coming soon.
LOCATION:17 Main Street Alexander City AL 35010
UID:e.3035.1445033
SEQUENCE:3
DTSTAMP:20260421T134741Z
URL:https://chamber.alexcitychamber.com/calendar/Details/sun-festival-canvas-cocktails-1711517?sourceTypeId=Hub
END:VEVENT
END:VCALENDAR
