BEGIN:VCALENDAR
VERSION:2.0
PRODID:-//ChamberMaster//Event Calendar 2.0//EN
METHOD:PUBLISH
X-PUBLISHED-TTL:P1H
REFRESH-INTERVAL:P1H
CALSCALE:GREGORIAN
BEGIN:VTIMEZONE
TZID:America/Chicago
BEGIN:DAYLIGHT
RRULE:FREQ=YEARLY;BYMONTH=3;BYDAY=2SU
DTSTART:20070101T000000
TZOFFSETFROM:-0600
TZOFFSETTO:-0500
TZNAME:Central Daylight Time
END:DAYLIGHT
BEGIN:STANDARD
RRULE:FREQ=YEARLY;BYMONTH=11;BYDAY=1SU
DTSTART:20070101T000000
TZOFFSETFROM:-0500
TZOFFSETTO:-0600
TZNAME:Central Standard Time
END:STANDARD
END:VTIMEZONE
BEGIN:VEVENT
DTSTART;TZID=America/Chicago:20260608T180000
DTEND;TZID=America/Chicago:20260608T190000
X-MICROSOFT-CDO-ALLDAYEVENT:FALSE
SUMMARY:Sun Festival Bark in the Park presented by Alexander City Veterinary Clinic
DESCRIPTION:Calling all dog lovers! Bark in the Park is a Sun Festival favorite for pups and their people\, and this year we’re celebrating with our theme: Pawtriotic Pups! Dress your furry friends in their best red\, white\, and blue and join us for an evening full of wagging tails and festive fun. Awards will be given for Cutest Costume\, Most Creative Costume\, Best Themed Costume\, Best Handler/Pet Duo\, and Best Overall.\nEnjoy a photo booth and soak up the fun with fellow pet lovers. Bring the whole family (two-legged and four-legged!) and get ready for a howlin’ good time!
X-ALT-DESC;FMTTYPE=text/html:Calling all dog lovers! Bark in the Park is a Sun Festival favorite for pups and their people\, and this year we’re celebrating with our theme: Pawtriotic Pups! Dress your furry friends in their best red\, white\, and blue and join us for an evening full of wagging tails and festive fun. Awards will be given for Cutest Costume\, Most Creative Costume\, Best Themed Costume\, Best Handler/Pet Duo\, and Best Overall.\nEnjoy a photo booth and soak up the fun with fellow pet lovers. Bring the whole family (two-legged and four-legged!) and get ready for a howlin’ good time!
LOCATION:120 Tallapoosa Street Alexander City AL 35010
UID:e.3035.1445029
SEQUENCE:3
DTSTAMP:20260421T135149Z
URL:https://chamber.alexcitychamber.com/calendar/Details/sun-festival-bark-in-the-park-presented-by-alexander-city-veterinary-clinic-1711513?sourceTypeId=Hub
END:VEVENT
END:VCALENDAR
