BEGIN:VCALENDAR
VERSION:2.0
PRODID:-//ChamberMaster//Event Calendar 2.0//EN
METHOD:PUBLISH
X-PUBLISHED-TTL:P1H
REFRESH-INTERVAL:P1H
CALSCALE:GREGORIAN
BEGIN:VTIMEZONE
TZID:America/Chicago
BEGIN:DAYLIGHT
RRULE:FREQ=YEARLY;BYMONTH=3;BYDAY=2SU
DTSTART:20070101T000000
TZOFFSETFROM:-0600
TZOFFSETTO:-0500
TZNAME:Central Daylight Time
END:DAYLIGHT
BEGIN:STANDARD
RRULE:FREQ=YEARLY;BYMONTH=11;BYDAY=1SU
DTSTART:20070101T000000
TZOFFSETFROM:-0500
TZOFFSETTO:-0600
TZNAME:Central Standard Time
END:STANDARD
END:VTIMEZONE
BEGIN:VEVENT
DTSTART;TZID=America/Chicago:20260605T183000
DTEND;TZID=America/Chicago:20260605T203000
X-MICROSOFT-CDO-ALLDAYEVENT:FALSE
SUMMARY:Friday on the Green presented by Russell Lands
DESCRIPTION:Come enjoy live music at Russell Crossroads! Bring your pals for a lot of fun and hear some great music from Patrick Barnett. Grab the lawn chairs and picnic blankets for some family-friendly fun on the Town Green. Dogs are welcome\, but don’t forget the leash. See you Friday\, On the Green!
X-ALT-DESC;FMTTYPE=text/html:Come enjoy live music at Russell Crossroads! Bring your pals for a lot of fun and hear some great music from Patrick Barnett. Grab the lawn chairs and picnic blankets for some family-friendly fun on the Town Green. Dogs are welcome\, but don’t forget the leash. See you Friday\, On the Green!
LOCATION:17 Russell Farms Road Alexander City AL 35010
UID:e.3035.1444901
SEQUENCE:3
DTSTAMP:20260421T134654Z
URL:https://chamber.alexcitychamber.com/calendar/Details/friday-on-the-green-presented-by-russell-lands-1711317?sourceTypeId=Hub
END:VEVENT
END:VCALENDAR
