BEGIN:VCALENDAR
VERSION:2.0
PRODID:-//ChamberMaster//Event Calendar 2.0//EN
METHOD:PUBLISH
X-PUBLISHED-TTL:P1H
REFRESH-INTERVAL:P1H
CALSCALE:GREGORIAN
BEGIN:VTIMEZONE
TZID:America/Chicago
BEGIN:DAYLIGHT
RRULE:FREQ=YEARLY;BYMONTH=3;BYDAY=2SU
DTSTART:20070101T000000
TZOFFSETFROM:-0600
TZOFFSETTO:-0500
TZNAME:Central Daylight Time
END:DAYLIGHT
BEGIN:STANDARD
RRULE:FREQ=YEARLY;BYMONTH=11;BYDAY=1SU
DTSTART:20070101T000000
TZOFFSETFROM:-0500
TZOFFSETTO:-0600
TZNAME:Central Standard Time
END:STANDARD
END:VTIMEZONE
BEGIN:VEVENT
DTSTART;TZID=America/Chicago:20260612T180000
DTEND;TZID=America/Chicago:20260612T220000
X-MICROSOFT-CDO-ALLDAYEVENT:FALSE
SUMMARY:Family Night on Main
DESCRIPTION:Kick off the weekend and wrap up an incredible Sun Festival week with Family Night on Main\, a fun\, relaxed evening in the heart of downtown Alexander City. Main Street will come alive with live music from local and regional bands on a single stage in the green space\, a lineup of food trucks\, and family-friendly activities for kids of all ages. As the sun sets\, enjoy bubbles\, chalk art\, and plenty of space to relax and enjoy the music together. Located within Alexander City’s Arts & Entertainment District\, downtown restaurants\, bars\, and shops will be open late\, offering specials\, outdoor service\, and extended hours\, making it easy to grab dinner\, a treat for the kids\, or a refreshing drink while enjoying the festivities. Bring the whole family\, stroll Main Street\, support local businesses\, and enjoy a laid-back summer night filled with music\, food\, and community spirit. Admission is free\, and everyone is welcome!
X-ALT-DESC;FMTTYPE=text/html:Kick off the weekend and wrap up an incredible Sun Festival week with Family Night on Main\, a fun\, relaxed evening in the heart of downtown Alexander City. Main Street will come alive with live music from local and regional bands on a single stage in the green space\, a lineup of food trucks\, and family-friendly activities for kids of all ages. As the sun sets\, enjoy bubbles\, chalk art\, and plenty of space to relax and enjoy the music together. Located within Alexander City’s Arts & Entertainment District\, downtown restaurants\, bars\, and shops will be open late\, offering specials\, outdoor service\, and extended hours\, making it easy to grab dinner\, a treat for the kids\, or a refreshing drink while enjoying the festivities. Bring the whole family\, stroll Main Street\, support local businesses\, and enjoy a laid-back summer night filled with music\, food\, and community spirit. Admission is free\, and everyone is welcome!
LOCATION:Main Street & Calhoun Street Alexander City AL 35010
UID:e.3035.1445288
SEQUENCE:3
DTSTAMP:20260421T134615Z
URL:https://chamber.alexcitychamber.com/calendar/Details/family-night-on-main-1711785?sourceTypeId=Hub
END:VEVENT
END:VCALENDAR
